BEGIN:VCALENDAR
VERSION:2.0
PRODID:-//St Paul&#039;s Music - ECPv4.7.0.1//NONSGML v1.0//EN
CALSCALE:GREGORIAN
METHOD:PUBLISH
X-WR-CALNAME:St Paul&#039;s Music
X-ORIGINAL-URL:http://stpaulsmusic.com.au
X-WR-CALDESC:Events for St Paul&#039;s Music
BEGIN:VEVENT
DTSTART;VALUE=DATE:20190202
DTEND;VALUE=DATE:20190205
DTSTAMP:20190227T142901
CREATED:20181205T012946Z
LAST-MODIFIED:20190227T031412Z
UID:2889-1549065600-1549324799@stpaulsmusic.com.au
SUMMARY:Music Camp
DESCRIPTION:Allegretto Strings\, Concert Band\, Music Captains and selected mentors \nQCCC Brookfield \n
URL:http://stpaulsmusic.com.au/event/music-camp-2/
LOCATION:QCCC Brookfield\, 179 Gold Creek Road\, Brookfield\, Queensland\, 4069\, Australia
END:VEVENT
BEGIN:VEVENT
DTSTART;VALUE=DATE:20190204
DTEND;VALUE=DATE:20190205
DTSTAMP:20190227T142901
CREATED:20190124T001217Z
LAST-MODIFIED:20190124T010511Z
UID:2894-1549238400-1549324799@stpaulsmusic.com.au
SUMMARY:Honours Assembly - Wind Ensemble
DESCRIPTION:9am \n  \n
URL:http://stpaulsmusic.com.au/event/honours-assembly-wind-ensemble/
CATEGORIES:Middle School,Performances,Senior School
END:VEVENT
END:VCALENDAR